BEGIN:VCALENDAR
VERSION:2.0
PRODID:-//Bahama Health - ECPv6.15.17//NONSGML v1.0//EN
CALSCALE:GREGORIAN
METHOD:PUBLISH
X-WR-CALNAME:Bahama Health
X-ORIGINAL-URL:https://bahamahealth.com
X-WR-CALDESC:Events for Bahama Health
REFRESH-INTERVAL;VALUE=DURATION:PT1H
X-Robots-Tag:noindex
X-PUBLISHED-TTL:PT1H
BEGIN:VTIMEZONE
TZID:UTC
BEGIN:STANDARD
TZOFFSETFROM:+0000
TZOFFSETTO:+0000
TZNAME:UTC
DTSTART:20210101T000000
END:STANDARD
END:VTIMEZONE
BEGIN:VEVENT
DTSTART;TZID=UTC:20221115T000000
DTEND;TZID=UTC:20221115T000000
DTSTAMP:20260422T153047
CREATED:20220802T094653Z
LAST-MODIFIED:20220802T094929Z
UID:639357-1668470400-1668470400@bahamahealth.com
SUMMARY:Group B Strep Support (GBSS) Awareness Month 2022 #2 #4
DESCRIPTION:Sadly during July\, 43 babies will develop an early-onset GBS infection. Thanks to your support\, awareness of group B Strep is at an all-time high in the UK\, but there’s still more to be done. \nJuly’s Group B Strep Awareness Month is a fantastic opportunity for everyone to get involved. This year\, we particularly want to raise awareness of the new group B Strep information leaflet and make sure one gets to every single pregnant woman in the UK. \nHere are just some of the ways you can get involved and help us reach that goal and support Group B Strep Awareness Month:-
URL:https://bahamahealth.com/event/group-b-strep-support-gbss-awareness-month-2022-2-4/
ATTACH;FMTTYPE=image/jpeg:https://bahamahealth.com/wp-content/uploads/2022/07/gettyimages-84089877-170667a.jpeg
END:VEVENT
BEGIN:VEVENT
DTSTART;TZID=UTC:20221109T000000
DTEND;TZID=UTC:20221109T000000
DTSTAMP:20260422T153047
CREATED:20220802T094653Z
LAST-MODIFIED:20220802T094951Z
UID:639358-1667952000-1667952000@bahamahealth.com
SUMMARY:Group B Strep Support (GBSS) Awareness Month 2022 #2 #5
DESCRIPTION:Sadly during July\, 43 babies will develop an early-onset GBS infection. Thanks to your support\, awareness of group B Strep is at an all-time high in the UK\, but there’s still more to be done. \nJuly’s Group B Strep Awareness Month is a fantastic opportunity for everyone to get involved. This year\, we particularly want to raise awareness of the new group B Strep information leaflet and make sure one gets to every single pregnant woman in the UK. \nHere are just some of the ways you can get involved and help us reach that goal and support Group B Strep Awareness Month:-
URL:https://bahamahealth.com/event/group-b-strep-support-gbss-awareness-month-2022-2-5/
ATTACH;FMTTYPE=image/jpeg:https://bahamahealth.com/wp-content/uploads/2022/07/gettyimages-84089877-170667a.jpeg
END:VEVENT
BEGIN:VEVENT
DTSTART;TZID=UTC:20221028T000000
DTEND;TZID=UTC:20221028T000000
DTSTAMP:20260422T153047
CREATED:20220802T094653Z
LAST-MODIFIED:20220802T094919Z
UID:639356-1666915200-1666915200@bahamahealth.com
SUMMARY:Group B Strep Support (GBSS) Awareness Month 2022 #2 #3
DESCRIPTION:Sadly during July\, 43 babies will develop an early-onset GBS infection. Thanks to your support\, awareness of group B Strep is at an all-time high in the UK\, but there’s still more to be done. \nJuly’s Group B Strep Awareness Month is a fantastic opportunity for everyone to get involved. This year\, we particularly want to raise awareness of the new group B Strep information leaflet and make sure one gets to every single pregnant woman in the UK. \nHere are just some of the ways you can get involved and help us reach that goal and support Group B Strep Awareness Month:-
URL:https://bahamahealth.com/event/group-b-strep-support-gbss-awareness-month-2022-2-3/
ATTACH;FMTTYPE=image/jpeg:https://bahamahealth.com/wp-content/uploads/2022/07/gettyimages-84089877-170667a.jpeg
END:VEVENT
BEGIN:VEVENT
DTSTART;TZID=UTC:20221010T080000
DTEND;TZID=UTC:20221010T170000
DTSTAMP:20260422T153047
CREATED:20220718T195155Z
LAST-MODIFIED:20220802T094511Z
UID:638140-1665388800-1665421200@bahamahealth.com
SUMMARY:Sample Events
DESCRIPTION:Sadly during July\, 43 babies will develop an early-onset GBS infection. Thanks to your support\, awareness of group B Strep is at an all-time high in the UK\, but there’s still more to be done. \nJuly’s Group B Strep Awareness Month is a fantastic opportunity for everyone to get involved. This year\, we particularly want to raise awareness of the new group B Strep information leaflet and make sure one gets to every single pregnant woman in the UK. \nHere are just some of the ways you can get involved and help us reach that goal and support Group B Strep Awareness Month:-
URL:https://bahamahealth.com/event/sample-events/
LOCATION:Abaco\, East Bay & Church Streets Nassau\, Abaco\, Abaco\, 11209\, Bahamas
ATTACH;FMTTYPE=image/jpeg:https://bahamahealth.com/wp-content/uploads/2022/07/leaf.jpg
END:VEVENT
BEGIN:VEVENT
DTSTART;TZID=UTC:20220929T000000
DTEND;TZID=UTC:20220929T000000
DTSTAMP:20260422T153047
CREATED:20220802T094653Z
LAST-MODIFIED:20220802T094850Z
UID:639355-1664409600-1664409600@bahamahealth.com
SUMMARY:Group B Strep Support (GBSS) Awareness Month 2022 #2 #2
DESCRIPTION:Sadly during July\, 43 babies will develop an early-onset GBS infection. Thanks to your support\, awareness of group B Strep is at an all-time high in the UK\, but there’s still more to be done. \nJuly’s Group B Strep Awareness Month is a fantastic opportunity for everyone to get involved. This year\, we particularly want to raise awareness of the new group B Strep information leaflet and make sure one gets to every single pregnant woman in the UK. \nHere are just some of the ways you can get involved and help us reach that goal and support Group B Strep Awareness Month:-
URL:https://bahamahealth.com/event/group-b-strep-support-gbss-awareness-month-2022-2-2/
ATTACH;FMTTYPE=image/jpeg:https://bahamahealth.com/wp-content/uploads/2022/07/gettyimages-84089877-170667a.jpeg
END:VEVENT
BEGIN:VEVENT
DTSTART;TZID=UTC:20220923T000000
DTEND;TZID=UTC:20220923T000000
DTSTAMP:20260422T153047
CREATED:20220802T094608Z
LAST-MODIFIED:20220802T094834Z
UID:639352-1663891200-1663891200@bahamahealth.com
SUMMARY:Group B Strep Support (GBSS) Awareness
DESCRIPTION:Sadly during July\, 43 babies will develop an early-onset GBS infection. Thanks to your support\, awareness of group B Strep is at an all-time high in the UK\, but there’s still more to be done. \nJuly’s Group B Strep Awareness Month is a fantastic opportunity for everyone to get involved. This year\, we particularly want to raise awareness of the new group B Strep information leaflet and make sure one gets to every single pregnant woman in the UK. \nHere are just some of the ways you can get involved and help us reach that goal and support Group B Strep Awareness Month:-
URL:https://bahamahealth.com/event/group-b-strep-support-gbss-awareness/
ATTACH;FMTTYPE=image/jpeg:https://bahamahealth.com/wp-content/uploads/2022/07/gettyimages-84089877-170667a.jpeg
END:VEVENT
BEGIN:VEVENT
DTSTART;TZID=UTC:20220921T080000
DTEND;TZID=UTC:20220921T170000
DTSTAMP:20260422T153047
CREATED:20220718T194757Z
LAST-MODIFIED:20220802T094637Z
UID:638133-1663747200-1663779600@bahamahealth.com
SUMMARY:Awareness Month 2022
DESCRIPTION:Sadly during July\, 43 babies will develop an early-onset GBS infection. Thanks to your support\, awareness of group B Strep is at an all-time high in the UK\, but there’s still more to be done. \nJuly’s Group B Strep Awareness Month is a fantastic opportunity for everyone to get involved. This year\, we particularly want to raise awareness of the new group B Strep information leaflet and make sure one gets to every single pregnant woman in the UK. \nHere are just some of the ways you can get involved and help us reach that goal and support Group B Strep Awareness Month:-
URL:https://bahamahealth.com/event/awareness-month-2022/
ATTACH;FMTTYPE=image/jpeg:https://bahamahealth.com/wp-content/uploads/2022/07/gettyimages-84089877-170667a.jpeg
END:VEVENT
END:VCALENDAR